BEGIN:VCALENDAR
VERSION:2.0
PRODID:-//wp-events-plugin.com//7.2.3.1//EN
TZID:Europe/Berlin
X-WR-TIMEZONE:Europe/Berlin
BEGIN:VEVENT
UID:27@kiel-schuetzen.de
DTSTART;TZID=Europe/Berlin:20260213T170000
DTEND;TZID=Europe/Berlin:20260213T200000
DTSTAMP:20251112T155703Z
URL:https://kiel-schuetzen.de/events/rundenkampf-2025-2026-kleinkaliber-au
 flage-50m-vierter-wettkampf/
SUMMARY:Rundenkampf 2025/2026 – Kleinkaliber-Auflage 50m – vierter Wett
 kampf
DESCRIPTION:Leitung: Schützenverein Hubertus Kiel 1891 e.V.\nAufsicht: Sch
 ützengilde Gut Schuss Demühlen von 1957 e.V.\nAuswertung: Alte Gaardener
  Gilde\n\n4. RK-Orga-Plan 2025_2026 - v4 -
CATEGORIES:Rundenwettkampf
LOCATION:Schießstand Schützenverein Hubertus Kiel von 1891 e.V.\, Goerdel
 erring 1\, Kiel\, 24145\, Deutschland
X-APPLE-STRUCTURED-LOCATION;VALUE=URI;X-ADDRESS=Goerdelerring 1\, Kiel\, 24
 145\, Deutschland;X-APPLE-RADIUS=100;X-TITLE=Schießstand Schützenverein 
 Hubertus Kiel von 1891 e.V.:geo:0,0
END:VEVENT
BEGIN:VTIMEZONE
TZID:Europe/Berlin
X-LIC-LOCATION:Europe/Berlin
BEGIN:STANDARD
DTSTART:20251026T020000
TZOFFSETFROM:+0200
TZOFFSETTO:+0100
TZNAME:CET
END:STANDARD
END:VTIMEZONE
END:VCALENDAR