BEGIN:VCALENDAR
VERSION:2.0
PRODID:-//wp-events-plugin.com//7.2.3.1//EN
TZID:Europe/Berlin
X-WR-TIMEZONE:Europe/Berlin
BEGIN:VEVENT
UID:28@kiel-schuetzen.de
DTSTART;TZID=Europe/Berlin:20251108T090000
DTEND;TZID=Europe/Berlin:20251108T130000
DTSTAMP:20251112T155917Z
URL:https://kiel-schuetzen.de/events/rundenkampf-2025-2026-kleinkaliber-au
 flage-100m-erster-wettkampf/
SUMMARY:Rundenkampf 2025/2026 – Kleinkaliber-Auflage 100m – erster Wett
 kampf
DESCRIPTION:Leitung: Friedrichsorter Schützenverein von 1894 e.V.\nAufsich
 t: Kieler Bürger-Schützengilde von 1858 e.V.\nAuswertung: Schützengilde
  Gut Schuss Demühlen von 1957 e.V.\n\n4. RK-Orga-Plan 2025_2026 - v4 -
CATEGORIES:Rundenwettkampf
LOCATION:Schießstand Friedrichsorter Schützenverein von 1894 e.V.\, Zum B
 adestrand 11\, Kiel\, 24159\, Deutschland
X-APPLE-STRUCTURED-LOCATION;VALUE=URI;X-ADDRESS=Zum Badestrand 11\, Kiel\, 
 24159\, Deutschland;X-APPLE-RADIUS=100;X-TITLE=Schießstand Friedrichsorte
 r Schützenverein von 1894 e.V.:geo:0,0
END:VEVENT
BEGIN:VTIMEZONE
TZID:Europe/Berlin
X-LIC-LOCATION:Europe/Berlin
BEGIN:STANDARD
DTSTART:20251026T020000
TZOFFSETFROM:+0200
TZOFFSETTO:+0100
TZNAME:CET
END:STANDARD
END:VTIMEZONE
END:VCALENDAR